BEGIN:VCALENDAR
VERSION:2.0
BEGIN:VEVENT
DTSTART:20250428T000100
DTEND;VALUE=DATE:20250429
SUMMARY:Prognosuppföljning 2024
DESCRIPTION:\nEnligt regleringsbrevet ska ESV publicera en redovisning av prognosprecisionen och prognosavvikelser för centrala variabler för myndighetens prognoser. ESV ska också jämföra sina prognoser med motsvarande prognoser som görs av regeringen.

LOCATION:
END:VEVENT

BEGIN:VEVENT
DTSTART:20250618T100000
DTEND:20250618T100000
SUMMARY:ESV:s prognos
DESCRIPTION:\nEkonomistyrningsverket publicerar sin senaste prognos för statens budget och de offentliga finanserna på esv.se klockan 10.00.\nMer om ESV:s prognoser

LOCATION:
END:VEVENT

BEGIN:VEVENT
DTSTART:20250912T100000
DTEND:20250912T100000
SUMMARY:ESV:s prognos
DESCRIPTION:\nEkonomistyrningsverket publicerar sin senaste prognos för statens budget och de offentliga finanserna på esv.se klockan 10.00.\nMer om ESV:s prognoser

LOCATION:
END:VEVENT

BEGIN:VEVENT
DTSTART:20251118T100000
DTEND:20251118T100000
SUMMARY:ESV:s prognos
DESCRIPTION:\nEkonomistyrningsverket publicerar sin senaste prognos för statens budget och de offentliga finanserna på esv.se klockan 10.00.\nMer om ESV:s prognoser

LOCATION:
END:VEVENT

END:VCALENDAR
