BEGIN:VCALENDAR
VERSION:2.0
BEGIN:VEVENT
DTSTART:20270105T000100
DTEND;VALUE=DATE:20270106
SUMMARY:Brytdag för myndigheternas löpande bokföring
DESCRIPTION:\nMyndigheterna ska tillämpa en så kallad brytdag då den löpande bokföringen för perioden ska avslutas. Brytdagen för 2026 är den 5 januari 2027.\nDet regleras i 9 § Ekonomistyrningsverkets föreskrifter och allmänna råd (ESVFA 2022:2) om myndigheters bokföring (Forum).

LOCATION:
END:VEVENT

END:VCALENDAR
