BEGIN:VCALENDAR
VERSION:2.0
BEGIN:VEVENT
DTSTART:20270215T000100
DTEND;VALUE=DATE:20270216
SUMMARY:Lämna Finansiellt utdrag för 2026
DESCRIPTION:\nDe 40 största myndigheterna ska lämna Finansiellt utdrag till Statskontoret senast den 15 februari. Det regleras i 2 kap. 4 § Ekonomistyrningsverkets föreskrifter och allmänna råd (ESVFA 2022:1) om årsredovisning och budgetunderlag (Forum).

LOCATION:
END:VEVENT

END:VCALENDAR
