BEGIN:VCALENDAR
VERSION:2.0
BEGIN:VEVENT
DTSTART:20270503T000100
DTEND;VALUE=DATE:20270504
SUMMARY:Kontroll av tilldelade medel, indragningar samt ingående och utgående överföringsbelopp
DESCRIPTION:\nKontrollera att uppgifterna i statsredovisningssystemet om tilldelade medel och indragningar överensstämmer med regeringsbeslut, samt att ingående överföringsbelopp för anslag stämmer med föregående års utgående överföringsbelopp. Detta ska göras senast första arbetsdagen i maj och därefter löpande. Myndigheten ska snarast informera ansvarigt departement och Statskontoret om en felaktighet konstateras.\nDet regleras i 16 § ESV:s föreskrifter och allmänna råd (ESVFA 2022:2) om myndigheters bokföring (Forum).

LOCATION:
END:VEVENT

END:VCALENDAR
