BEGIN:VCALENDAR
VERSION:2.0
BEGIN:VEVENT
DTSTART;VALUE=DATE:20260505
DTEND;VALUE=DATE:20260506
SUMMARY:Övriga statliga enheter - Utfall 1:a kvartalet
DESCRIPTION:\nPerioden öppnar 2026-04-10 och stänger 2026-05-05

LOCATION:
END:VEVENT

END:VCALENDAR
