BEGIN:VCALENDAR
VERSION:2.0
BEGIN:VEVENT
DTSTART;VALUE=DATE:20260815
DTEND;VALUE=DATE:20260816
SUMMARY:Övriga statliga enheter - Utfall 2:a kvartalet
DESCRIPTION:\nPerioden öppnar 2026-07-01 och stänger 2026-08-15

LOCATION:
END:VEVENT

END:VCALENDAR
