BEGIN:VCALENDAR
VERSION:2.0
BEGIN:VEVENT
DTSTART;VALUE=DATE:20261001
DTEND;VALUE=DATE:20261002
SUMMARY:Övriga statliga enheter - Utfall 3:e kvartalet
DESCRIPTION:\nPerioden öppnar 2026-10-01 och stänger 2026-11-02

LOCATION:
END:VEVENT

END:VCALENDAR
