BEGIN:VCALENDAR
VERSION:2.0
BEGIN:VEVENT
DTSTART;VALUE=DATE:20270119
DTEND;VALUE=DATE:20270120
SUMMARY:Övriga statliga enheter - Utfall 4:e kvartalet
DESCRIPTION:\nPerioden öppnar 2027-01-19 och stänger 2027-03-31

LOCATION:
END:VEVENT

END:VCALENDAR
