BEGIN:VCALENDAR
VERSION:2.0
BEGIN:VEVENT
DTSTART;VALUE=DATE:20260511
DTEND;VALUE=DATE:20260512
SUMMARY:Månadsutfall t.o.m. april
DESCRIPTION:\nPerioden öppnar 2026-04-01 och stänger 2026-05-11

LOCATION:
END:VEVENT

END:VCALENDAR
