BEGIN:VCALENDAR
VERSION:2.0
BEGIN:VEVENT
DTSTART;VALUE=DATE:20260501
DTEND;VALUE=DATE:20260502
SUMMARY:Månadsutfall t.o.m. maj
DESCRIPTION:\nPerioden öppnar 2026-05-01 och stänger 2026-06-10

LOCATION:
END:VEVENT

END:VCALENDAR
