BEGIN:VCALENDAR
VERSION:2.0
BEGIN:VEVENT
DTSTART;VALUE=DATE:20260715
DTEND;VALUE=DATE:20260716
SUMMARY:Kommentarer på S-koder april-juni
DESCRIPTION:\nPerioden öppnar 2026-07-01 och stänger 2026-07-15I vissa fall ska myndigheten även lämna kommentarer på vissa S-koder i anslutning till kvartalsrapporteringen. Endast de S-koder som ska kommenteras kommer att visas för myndigheten i Hermes under registreringsmenyn ”Kommentarer på S-koder” och i rapporten ”Kommentarer för S-koder”. Om inga S-koder visas på dessa ställen behöver inte heller myndigheten lämna några kommentarer.

LOCATION:
END:VEVENT

END:VCALENDAR
