BEGIN:VCALENDAR
VERSION:2.0
BEGIN:VEVENT
DTSTART;VALUE=DATE:20260623
DTEND;VALUE=DATE:20260624
SUMMARY:Prognos för beställningsbemyndiganden
DESCRIPTION:\nPerioden öppnar 2026-06-23 och stänger 2026-07-24Myndigheter som i sitt regleringsbrev har i uppgift att rapportera prognos för beställningsbemyndiganden i Hermes ska lämna en uppdaterad prognos.

LOCATION:
END:VEVENT

END:VCALENDAR
