BEGIN:VCALENDAR
VERSION:2.0
BEGIN:VEVENT
DTSTART;VALUE=DATE:20260810
DTEND;VALUE=DATE:20260811
SUMMARY:Månadsutfall t.o.m. juli
DESCRIPTION:\nPerioden öppnar 2026-07-01 och stänger 2026-08-10

LOCATION:
END:VEVENT

END:VCALENDAR
