BEGIN:VCALENDAR
VERSION:2.0
BEGIN:VEVENT
DTSTART;VALUE=DATE:20260901
DTEND;VALUE=DATE:20260902
SUMMARY:Månadsutfall t.o.m. september + Anslagsfördelning kvartal 3
DESCRIPTION:\nPerioden öppnar 2026-09-01 och stänger 2026-10-13

LOCATION:
END:VEVENT

END:VCALENDAR
