BEGIN:VCALENDAR
VERSION:2.0
BEGIN:VEVENT
DTSTART;VALUE=DATE:20261109
DTEND;VALUE=DATE:20261110
SUMMARY:Månadsutfall t.o.m. oktober
DESCRIPTION:\nPerioden öppnar 2026-10-01 och stänger 2026-11-09

LOCATION:
END:VEVENT

END:VCALENDAR
