BEGIN:VCALENDAR
VERSION:2.0
BEGIN:VEVENT
DTSTART;VALUE=DATE:20261209
DTEND;VALUE=DATE:20261210
SUMMARY:Månadsutfall t.o.m. november
DESCRIPTION:\nPerioden öppnar 2026-11-01 och stänger 2026-12-09

LOCATION:
END:VEVENT

END:VCALENDAR
