BEGIN:VCALENDAR
VERSION:2.0
BEGIN:VEVENT
DTSTART;VALUE=DATE:20270202
DTEND;VALUE=DATE:20270203
SUMMARY:Kommentarer på S-koder okt-dec
DESCRIPTION:\nPerioden öppnar 2027-01-01 och stänger 2027-02-02I vissa fall ska myndigheten även lämna kommentarer på vissa S-koder i anslutning till kvartalsrapporteringen. Endast de S-koder som ska kommenteras kommer att visas för myndigheten i Hermes under registreringsmenyn ”Kommentarer på S-koder” och i rapporten ”Kommentarer för S-koder”. Om inga S-koder visas på dessa ställen behöver inte heller myndigheten lämna några kommentarer.Datum preliminärt.

LOCATION:
END:VEVENT

END:VCALENDAR
