BEGIN:VCALENDAR
VERSION:2.0
BEGIN:VEVENT
DTSTART;VALUE=DATE:20270215
DTEND;VALUE=DATE:20270216
SUMMARY:EU-medel
DESCRIPTION:\nPerioden öppnar 2027-01-01 och stänger 2027-02-15Det är bara ett fåtal myndigheter som hanterar EU-medel med delat förvaltningsansvar som ska rapportera detta.

LOCATION:
END:VEVENT

END:VCALENDAR
