BEGIN:VCALENDAR
VERSION:2.0
BEGIN:VEVENT
DTSTART;VALUE=DATE:20270101
DTEND;VALUE=DATE:20270102
SUMMARY:Särskild info, helår
DESCRIPTION:\nPerioden öppnar 2027-01-01 och stänger 2027-02-23Myndigheten ska rapportera den information som framgår av statsredovisningssystemet i Hermes, förutsatt att myndigheten berörs och enligt andra regler är skyldig att redovisa den aktuella informationen i sin årsredovisning.

LOCATION:
END:VEVENT

END:VCALENDAR
