BEGIN:VCALENDAR
VERSION:2.0
BEGIN:VEVENT
DTSTART;VALUE=DATE:20270101
DTEND;VALUE=DATE:20270102
SUMMARY:Beställningsbemyndiganden Utfall
DESCRIPTION:\nPerioden öppnar 2027-01-01 och stänger 2027-02-23Myndigheter som i sitt regleringsbrev har i uppgift att rapportera utfall för beställningsbemyndiganden ska rapportera uppgifterna i Hermes.

LOCATION:
END:VEVENT

END:VCALENDAR
