BEGIN:VCALENDAR
VERSION:2.0
BEGIN:VEVENT
DTSTART;VALUE=DATE:20261201
DTEND;VALUE=DATE:20261202
SUMMARY:Månadsutfall t.o.m. december + Ev. anslagsfördelning kvartal 4
DESCRIPTION:\nPerioden öppnar 2026-12-01 och stänger 2027-01-14Inrapportering av preliminärt decemberutfall (Period 12a). Motpartsfördelningen ska vara klar så att motpartsavstämning kan påbörjas.Anslagsfördelning kan rapporteras i denna period om ni är klara.

LOCATION:
END:VEVENT

END:VCALENDAR
