BEGIN:VCALENDAR
VERSION:2.0
BEGIN:VEVENT
DTSTART;VALUE=DATE:20270115
DTEND;VALUE=DATE:20270116
SUMMARY:Ev. nytt utfall t.o.m december + Anslagsfördelning kvartal 4
DESCRIPTION:\nPerioden öppnar 2027-01-15 och stänger 2027-01-29Anslagsfördelningen ska vara klar senast i period 12c, men den ska även skickas med om myndigheten behöver rapportera utfall i efterkommande 12-perioder.Anslagsfördelningen utgör underlag för pris- och löneomräkningen (PLO).

LOCATION:
END:VEVENT

END:VCALENDAR
