BEGIN:VCALENDAR
VERSION:2.0
BEGIN:VEVENT
DTSTART;VALUE=DATE:20270130
DTEND;VALUE=DATE:20270131
SUMMARY:Utfall enligt finansiellt utdrag eller slutligt helårsutfall
DESCRIPTION:\nPerioden öppnar 2027-01-30 och stänger 2027-02-1512d -  I denna period ska samtliga myndigheter rapportera in det slutliga helårsutfallet i Hermes om det inte redan är gjort i period 12a eller 12c. De 40 största myndigheterna ska även skicka in det finansiella utdraget.

LOCATION:
END:VEVENT

END:VCALENDAR
