BEGIN:VCALENDAR
VERSION:2.0
BEGIN:VEVENT
DTSTART;VALUE=DATE:20270223
DTEND;VALUE=DATE:20270224
SUMMARY:Ev. justering av det slutliga helårsutfallet i enlighet med myndighetens ÅR
DESCRIPTION:\nPerioden öppnar 2027-02-16 och stänger 2027-02-2312e - Om de senast lämnade uppgifterna inte överensstämmer med den årsredovisning som myndigheten lämnar till regeringen ska uppgifterna rättas i denna period.

LOCATION:
END:VEVENT

END:VCALENDAR
