BEGIN:VCALENDAR
VERSION:2.0
BEGIN:VEVENT
DTSTART;VALUE=DATE:20270122
DTEND;VALUE=DATE:20270123
SUMMARY:Inomstatliga motparter helår
DESCRIPTION:\nPerioden öppnar 2027-01-01 och stänger 2027-01-22Motparterna ska vara rapporterade i period 12a. Efter det kan avstämning göras fram till stängningsdatum.

LOCATION:
END:VEVENT

END:VCALENDAR
