BEGIN:VCALENDAR
VERSION:2.0
BEGIN:VEVENT
DTSTART:20261126T090000
DTEND:20261126T090000
SUMMARY:Oktober månads utfall
DESCRIPTION:\nStatskontoret sammanställer och publicerar varje månad utfallet på statens budget. Utfallet bygger på de statliga myndigheternas rapportering till statsredovisningssystemet Hermes.

LOCATION:
END:VEVENT

END:VCALENDAR
