BEGIN:VCALENDAR
VERSION:2.0
BEGIN:VEVENT
DTSTART;VALUE=DATE:20260422
DTEND;VALUE=DATE:20260423
SUMMARY:Myndighetsprognos RK26:maj
DESCRIPTION:\nPerioden öppnar 2026-04-16 och stänger 2026-04-22.

LOCATION:
END:VEVENT

END:VCALENDAR
