BEGIN:VCALENDAR
VERSION:2.0
BEGIN:VEVENT
DTSTART:20260724T090000
DTEND:20260724T090000
SUMMARY:Myndighetsprognos BP27:1
DESCRIPTION:\nPerioden öppnar 2026-06-23 och stänger 2026-07-24.

LOCATION:
END:VEVENT

END:VCALENDAR
