BEGIN:VCALENDAR
VERSION:2.0
BEGIN:VEVENT
DTSTART:20261102T090000
DTEND:20261102T090000
SUMMARY:Myndighetsprognos RK26:nov
DESCRIPTION:\nPerioden öppnar 2026-11-02 och stänger 2026-11-09.

LOCATION:
END:VEVENT

END:VCALENDAR
