BEGIN:VCALENDAR
VERSION:2.0
BEGIN:VEVENT
DTSTART;VALUE=DATE:20261109
DTEND;VALUE=DATE:20261110
SUMMARY:Myndighetsprognos RK26:nov
DESCRIPTION:\nPerioden öppnar 2026-11-02 och stänger 2026-11-09.

LOCATION:
END:VEVENT

END:VCALENDAR
