BEGIN:VCALENDAR
VERSION:2.0
BEGIN:VEVENT
DTSTART;VALUE=DATE:20260424
DTEND;VALUE=DATE:20260425
SUMMARY:Myndighetsprognos 2 till Statskontoret
DESCRIPTION:\nPrognoserna ska lämnas i Statskontorets inrapporteringssystem för prognoser.\nRapportera prognos (mir.statskontoret.se)

LOCATION:
END:VEVENT

END:VCALENDAR
