BEGIN:VCALENDAR
VERSION:2.0
BEGIN:VEVENT
DTSTART;VALUE=DATE:20260805
DTEND;VALUE=DATE:20260806
SUMMARY:Myndighetsprognos 3 till Statskontoret
DESCRIPTION:\nPrognoserna ska lämnas i Statskontorets inrapporteringssystem för prognoser.\nRapportera prognos (mir.statskontoret.se)

LOCATION:
END:VEVENT

END:VCALENDAR
