BEGIN:VCALENDAR
VERSION:2.0
BEGIN:VEVENT
DTSTART;VALUE=DATE:20261109
DTEND;VALUE=DATE:20261110
SUMMARY:Myndighetsprognos 4 till Statskontoret
DESCRIPTION:\nPrognoserna ska lämnas i Statskontorets inrapporteringssystem för prognoser.\nRapportera prognos (mir.statskontoret.se)

LOCATION:
END:VEVENT

END:VCALENDAR
