BEGIN:VCALENDAR
VERSION:2.0
BEGIN:VEVENT
DTSTART:20260520T000100
DTEND;VALUE=DATE:20260521
SUMMARY:Underlag till statens finansiella sparande 2026 kvartal 1
DESCRIPTION:
LOCATION:
END:VEVENT

END:VCALENDAR
