BEGIN:VCALENDAR
VERSION:2.0
BEGIN:VEVENT
DTSTART:20260819T000100
DTEND;VALUE=DATE:20260820
SUMMARY:Underlag till statens finansiella sparande 2026 kvartal 2
DESCRIPTION:
LOCATION:
END:VEVENT

END:VCALENDAR
