BEGIN:VCALENDAR
VERSION:2.0
BEGIN:VEVENT
DTSTART:20261118T000100
DTEND;VALUE=DATE:20261119
SUMMARY:Underlag till statens finansiella sparande 2026 kvartal 3
DESCRIPTION:
LOCATION:
END:VEVENT

END:VCALENDAR
