BEGIN:VCALENDAR
VERSION:2.0
BEGIN:VEVENT
DTSTART;VALUE=DATE:20260901
DTEND;VALUE=DATE:20260902
SUMMARY:Uppgifter för Skydd av EU:s finansiella intressen
DESCRIPTION:\nPerioden öppnar 2026-09-01 och stänger 2026-09-15

LOCATION:
END:VEVENT

END:VCALENDAR
