BEGIN:VCALENDAR
VERSION:2.0
BEGIN:VEVENT
DTSTART:20260427T000100
DTEND;VALUE=DATE:20260428
SUMMARY:Prognosuppföljning 2025
DESCRIPTION:\nEnligt regleringsbrevet ska Statskontoret publicera en redovisning av prognosprecisionen och prognosavvikelser för centrala variabler för myndighetens prognoser. Statskontoret ska också jämföra sina prognoser med motsvarande prognoser som görs av regeringen.\n 

LOCATION:
END:VEVENT

END:VCALENDAR
