BEGIN:VCALENDAR
VERSION:2.0
BEGIN:VEVENT
DTSTART:20260908T100000
DTEND:20260908T100000
SUMMARY:Statskontorets prognos september
DESCRIPTION:\nStatskontoret publicerar sin senaste prognos för statens budget och de offentliga finanserna på statskontoret.se klockan 10.00.\nMer om Statskontorets prognoser

LOCATION:
END:VEVENT

END:VCALENDAR
