BEGIN:VCALENDAR
VERSION:2.0
BEGIN:VEVENT
DTSTART;VALUE=DATE:20270301
DTEND;VALUE=DATE:20270302
SUMMARY:Budgetunderlag 2028–2030
DESCRIPTION:\nPerioden öppnar 2027-01-25 och stänger 2027-03-01.

LOCATION:
END:VEVENT

END:VCALENDAR
