BEGIN:VCALENDAR
VERSION:2.0
BEGIN:VEVENT
DTSTART:20260430T090000
DTEND:20260430T090000
SUMMARY:Göra en analys av Hälso- och sjukvårdens ansvarsnämnd
DESCRIPTION:\nStatskontoret har i uppdrag att med utgångspunkt i den modell för myndighetsanalyser som Statskontoret redovisade till regeringen i december 2008 (Fi2007 /09016) utföra en analys av Hälso- och sjukvårdens ansvarsnämnd (HSAN).\nTa del av uppdraget\nGöra en analys av Hälso- och sjukvårdens ansvarsnämnd\n 

LOCATION:
END:VEVENT

END:VCALENDAR
