BEGIN:VCALENDAR
VERSION:2.0
BEGIN:VEVENT
DTSTART:20260615T090000
DTEND:20260615T090000
SUMMARY:Utvärdera kreditgarantierna för gröna investeringar
DESCRIPTION:\nStatskontoret har i uppdrag att göra en utvärdering av kreditgarantierna för gröna investeringar.\nUtvärderingen ska innefatta en kartläggning och en analys av ändamålsenligheten och effektiviteten i det nuvarande garantiprogrammet som verktyg för att främja gröna industriinvesteringar som bidrar till att Sverige når sina miljö- och klimatpolitiska mål. Utvärderingen ska även innefatta en översyn av rekvisiten för att utfärda kreditgarantier för gröna investeringar.\nTa del av uppdraget\nUtvärdera kreditgarantierna för gröna investeringar\n 

LOCATION:
END:VEVENT

END:VCALENDAR
