BEGIN:VCALENDAR
VERSION:2.0
BEGIN:VEVENT
DTSTART:20260529T090000
DTEND:20260529T090000
SUMMARY:Följa upp och analysera effekterna av reformen om skyddat boende
DESCRIPTION:\nStatskontoret har i uppdrag att följa upp och analysera effekterna av de lagändringar som trädde i kraft den 1 april 2024 och som syftar till att stärka rättigheterna för barn och vuxna i skyddat boende. Det handlar dels om den nya lagen (2024:79) om placering av barn i skyddat boende, dels ändringar i socialtjänstlagen (2001:453).\nVi publicerar en delrapport den 29 maj.\nTa del av uppdraget\nFölja upp och analysera effekterna av reformen om skyddat boende\n 

LOCATION:
END:VEVENT

END:VCALENDAR
