BEGIN:VCALENDAR
VERSION:2.0
BEGIN:VEVENT
DTSTART:20260605T090000
DTEND:20260605T090000
SUMMARY:Redovisa statsbidrag till kommuner och regioner
DESCRIPTION:\nStatskontoret har i uppdrag att redovisa uppgifter om samtliga statsbidrag till kommuner och regioner.\nStatskontoret ska årligen 2025–2027, senast den 5 juni, lämna en redovisning för det föregående året till Regeringskansliet (Finansdepartementet).\nTa del av uppdraget\nRedovisa statsbidrag till kommuner och regioner\n 

LOCATION:
END:VEVENT

END:VCALENDAR
