BEGIN:VCALENDAR
VERSION:2.0
BEGIN:VEVENT
DTSTART:20260617T090000
DTEND:20260617T090000
SUMMARY:Utvärdera tillämpning och konsekvenser av gymnasieregelverket
DESCRIPTION:\nStatskontoret har i uppdrag att utvärdera hur berörda myndigheter har tillämpat de nya möjligheterna till uppehållstillstånd som trädde i kraft den 1 juli 2018 genom det så kallade gymnasieregelverket. Utvärderingen ska även omfatta vilka konsekvenser lagstiftningen har fått för kommunerna. I uppdraget ingår även att, utifrån utvärderingen, presentera vilka lärdomar som kan dras av lagstiftningens tillämpning och konsekvenser.\nTa del av uppdraget\nUtvärdera tillämpning och konsekvenser av gymnasieregelverket\n 

LOCATION:
END:VEVENT

END:VCALENDAR
