BEGIN:VCALENDAR
VERSION:2.0
BEGIN:VEVENT
DTSTART;VALUE=DATE:20260531
DTEND;VALUE=DATE:20260601
SUMMARY:RRF komplettering KOM:s revision Q1 2023
DESCRIPTION:\nPerioden öppnar 2026-04-20 och stänger 2026-05-31

LOCATION:
END:VEVENT

END:VCALENDAR
