BEGIN:VCALENDAR
VERSION:2.0
BEGIN:VEVENT
DTSTART;VALUE=DATE:20260424
DTEND;VALUE=DATE:20260425
SUMMARY:RRF insamling SOS gällande stickprov SE PR2
DESCRIPTION:\nPerioden öppnar 2026-04-22 och stänger 2026-04-24

LOCATION:
END:VEVENT

END:VCALENDAR
